BEGIN:VCALENDAR
VERSION:2.0
PRODID:-//wp-events-plugin.com//7.2.2.1//EN
TZID:Europe/Rome
X-WR-TIMEZONE:Europe/Rome
BEGIN:VEVENT
UID:53@trekkingcalendar.com
DTSTART;TZID=Europe/Rome:20230801T093000
DTEND;TZID=Europe/Rome:20230801T130000
DTSTAMP:20230706T124225Z
URL:https://trekkingcalendar.com/eventi/trekking-in-foresta-umbra-con-guid
 a-3/
SUMMARY:Trekking in Foresta Umbra con guida
DESCRIPTION:Cammineremo nella maestosa faggeta vetusta della Foresta Umbra\
 , immersi nella vegetazione costituita in gran parte da faggi secolari. Pe
 rcorso facile e adatto a tutti.
CATEGORIES:Escursione
LOCATION:Puglia\, -\, -\, Puglia\, Italia
X-APPLE-STRUCTURED-LOCATION;VALUE=URI;X-ADDRESS=-\, -\, Puglia\, Italia;X-A
 PPLE-RADIUS=100;X-TITLE=Puglia:geo:0,0
END:VEVENT
BEGIN:VTIMEZONE
TZID:Europe/Rome
X-LIC-LOCATION:Europe/Rome
BEGIN:DAYLIGHT
DTSTART:20230326T030000
TZOFFSETFROM:+0100
TZOFFSETTO:+0200
TZNAME:CEST
END:DAYLIGHT
END:VTIMEZONE
END:VCALENDAR