BEGIN:VCALENDAR
VERSION:2.0
PRODID:-//wp-events-plugin.com//7.2.2.1//EN
TZID:Europe/Rome
X-WR-TIMEZONE:Europe/Rome
BEGIN:VEVENT
UID:71@trekkingcalendar.com
DTSTART;TZID=Europe/Rome:20230721T190000
DTEND;TZID=Europe/Rome:20230721T223000
DTSTAMP:20230717T131813Z
URL:https://trekkingcalendar.com/eventi/trekking-e-focaccia-al-tramonto-lu
 ngo-la-via-francigena-in-puglia/
SUMMARY:Trekking e Focaccia al tramonto lungo la Via Francigena in Puglia
DESCRIPTION:Venerdì 21 luglio avremo l'opportunità di camminare lungo i s
 uggestivi sentieri della Via Francigena che collegano Polignano a Mare e M
 onopoli.
LOCATION:Puglia\, -\, -\, Puglia\, Italia
X-APPLE-STRUCTURED-LOCATION;VALUE=URI;X-ADDRESS=-\, -\, Puglia\, Italia;X-A
 PPLE-RADIUS=100;X-TITLE=Puglia:geo:0,0
END:VEVENT
BEGIN:VTIMEZONE
TZID:Europe/Rome
X-LIC-LOCATION:Europe/Rome
BEGIN:DAYLIGHT
DTSTART:20230326T030000
TZOFFSETFROM:+0100
TZOFFSETTO:+0200
TZNAME:CEST
END:DAYLIGHT
END:VTIMEZONE
END:VCALENDAR