BEGIN:VCALENDAR
VERSION:2.0
PRODID:-//wp-events-plugin.com//7.2.2.1//EN
TZID:Europe/Rome
X-WR-TIMEZONE:Europe/Rome
BEGIN:VEVENT
UID:85@trekkingcalendar.com
DTSTART;TZID=Europe/Rome:20231104T094500
DTEND;TZID=Europe/Rome:20231104T150000
DTSTAMP:20231023T080318Z
URL:https://trekkingcalendar.com/eventi/torre-dellorso-e-santandrea-lungo-
 il-sentiero-dei-faraglioni/
SUMMARY:TORRE DELL’ORSO E SANT’ANDREA LUNGO IL SENTIERO DEI FARAGLIONI
DESCRIPTION:Con quest’escursione vi guideremo alla scoperta di Torre dell
 ’Orso e Conca Specchiulla lungo il sentiero dei Faraglioni. L’escursio
 ne partirà da Torre dellOrso\, dove le Falesie nascondono alcune cavità 
 create dall’uomo in passato.
CATEGORIES:Escursione
LOCATION:Puglia\, -\, -\, Puglia\, Italia
X-APPLE-STRUCTURED-LOCATION;VALUE=URI;X-ADDRESS=-\, -\, Puglia\, Italia;X-A
 PPLE-RADIUS=100;X-TITLE=Puglia:geo:0,0
END:VEVENT
BEGIN:VTIMEZONE
TZID:Europe/Rome
X-LIC-LOCATION:Europe/Rome
BEGIN:STANDARD
DTSTART:20231029T020000
TZOFFSETFROM:+0200
TZOFFSETTO:+0100
TZNAME:CET
END:STANDARD
END:VTIMEZONE
END:VCALENDAR