BEGIN:VCALENDAR
VERSION:2.0
PRODID:-//wp-events-plugin.com//7.2.2.1//EN
TZID:Europe/Rome
X-WR-TIMEZONE:Europe/Rome
BEGIN:VEVENT
UID:79@trekkingcalendar.com
DTSTART;TZID=Europe/Rome:20230801T203000
DTEND;TZID=Europe/Rome:20230801T230000
DTSTAMP:20230731T100302Z
URL:https://trekkingcalendar.com/eventi/sui-sentieri-delle-vie-del-sale-a-
 corsano/
SUMMARY:SUI SENTIERI DELLE VIE DEL SALE a CORSANO
DESCRIPTION:Un'altra luna piena e un'altro MOONTREKKING con Salentovertical
 e per una notte di trekking immersi nella natura del Capo di Leuca e per u
 n'esclusiva "frisellata" al chiar di luna nella splendida cornice di Torre
  Specchia Grande a Corsano.
CATEGORIES:Escursione
LOCATION:Puglia\, -\, -\, Puglia\, Italia
X-APPLE-STRUCTURED-LOCATION;VALUE=URI;X-ADDRESS=-\, -\, Puglia\, Italia;X-A
 PPLE-RADIUS=100;X-TITLE=Puglia:geo:0,0
END:VEVENT
BEGIN:VTIMEZONE
TZID:Europe/Rome
X-LIC-LOCATION:Europe/Rome
BEGIN:DAYLIGHT
DTSTART:20230326T030000
TZOFFSETFROM:+0100
TZOFFSETTO:+0200
TZNAME:CEST
END:DAYLIGHT
END:VTIMEZONE
END:VCALENDAR