BEGIN:VCALENDAR
VERSION:2.0
PRODID:-//wp-events-plugin.com//7.2.2.1//EN
TZID:Europe/Rome
X-WR-TIMEZONE:Europe/Rome
BEGIN:VEVENT
UID:37@trekkingcalendar.com
DTSTART;TZID=Europe/Rome:20230708T173000
DTEND;TZID=Europe/Rome:20230708T210000
DTSTAMP:20230704T091446Z
URL:https://trekkingcalendar.com/eventi/sternatia-nel-cuore-della-grecia-s
 alentina/
SUMMARY:Sternatia nel cuore della Grecìa Salentina
DESCRIPTION:Oggi scopriremo i segreti di uno dei paesi della Grecìa Salent
 ina.\npunti di interesse:\n-Palazzo del municipio ex convento dei domenica
 ni e sede provinciale dell'inquisizione cattolica e i suoi segreti\;\n- Il
  Centro storico \, ci farà scoprire segnali alchemici e magici\, iscrizio
 ni dotte\;\n- La casa dellu sciacuddhri\;\n- il Castello Granafei\;\n- il 
 Frantoio Ipogeo\;\n- porta philia \;\n- la cripta di san Sebastiano di rec
 ente restauro\;\n- la chiesetta de li Farauli\, appena fuori dal centro ab
 itato.
CATEGORIES:Escursione
LOCATION:Puglia\, -\, -\, Puglia\, Italia
X-APPLE-STRUCTURED-LOCATION;VALUE=URI;X-ADDRESS=-\, -\, Puglia\, Italia;X-A
 PPLE-RADIUS=100;X-TITLE=Puglia:geo:0,0
END:VEVENT
BEGIN:VTIMEZONE
TZID:Europe/Rome
X-LIC-LOCATION:Europe/Rome
BEGIN:DAYLIGHT
DTSTART:20230326T030000
TZOFFSETFROM:+0100
TZOFFSETTO:+0200
TZNAME:CEST
END:DAYLIGHT
END:VTIMEZONE
END:VCALENDAR