BEGIN:VCALENDAR
VERSION:2.0
PRODID:-//wp-events-plugin.com//7.2.2.1//EN
TZID:Europe/Rome
X-WR-TIMEZONE:Europe/Rome
BEGIN:VEVENT
UID:101@trekkingcalendar.com
DTSTART;TZID=Europe/Rome:20240114T090000
DTEND;TZID=Europe/Rome:20240114T153000
DTSTAMP:20240111T094003Z
URL:https://trekkingcalendar.com/eventi/sguardi-ad-est-dalla-cava-di-bauxi
 te-alla-palacia-otranto-le/
SUMMARY:Sguardi ad est Dalla Cava di Bauxite alla Palacia - Otranto (Le)
DESCRIPTION:Sguardi ad est Dalla Cava di Bauxite alla Palacia - Otranto (Le
 )\, organizzata dalla Sottosezione di Lecce per Domenica 14 Gennaio.\n
CATEGORIES:Escursione
LOCATION:Puglia\, -\, -\, Puglia\, Italia
X-APPLE-STRUCTURED-LOCATION;VALUE=URI;X-ADDRESS=-\, -\, Puglia\, Italia;X-A
 PPLE-RADIUS=100;X-TITLE=Puglia:geo:0,0
END:VEVENT
BEGIN:VTIMEZONE
TZID:Europe/Rome
X-LIC-LOCATION:Europe/Rome
BEGIN:STANDARD
DTSTART:20231029T020000
TZOFFSETFROM:+0200
TZOFFSETTO:+0100
TZNAME:CET
END:STANDARD
END:VTIMEZONE
END:VCALENDAR