BEGIN:VCALENDAR
VERSION:2.0
PRODID:-//wp-events-plugin.com//7.2.2.1//EN
TZID:Europe/Rome
X-WR-TIMEZONE:Europe/Rome
BEGIN:VEVENT
UID:81@trekkingcalendar.com
DTSTART;TZID=Europe/Rome:20230805T190000
DTEND;TZID=Europe/Rome:20230805T220000
DTSTAMP:20230803T105719Z
URL:https://trekkingcalendar.com/eventi/puglia-archeo-trekking-alla-forest
 a-di-mercadante-fra-diavolo/
SUMMARY:Puglia Archeo trekking alla Foresta di Mercadante – Frà Diavolo
DESCRIPTION:Un percorso volto a ri-scoprire luoghi nascosti\, che raccontan
 o di radici\, di riti antichi\, di un passato che è stato e che non può 
 essere dimenticato\, luoghi di straordinario impatto emotivo per i parteci
 panti\, guidati sapientemente da PugliArte in un viaggio a ritroso nel tem
 po.
CATEGORIES:Escursione
LOCATION:Puglia\, -\, -\, Puglia\, Italia
X-APPLE-STRUCTURED-LOCATION;VALUE=URI;X-ADDRESS=-\, -\, Puglia\, Italia;X-A
 PPLE-RADIUS=100;X-TITLE=Puglia:geo:0,0
END:VEVENT
BEGIN:VTIMEZONE
TZID:Europe/Rome
X-LIC-LOCATION:Europe/Rome
BEGIN:DAYLIGHT
DTSTART:20230326T030000
TZOFFSETFROM:+0100
TZOFFSETTO:+0200
TZNAME:CEST
END:DAYLIGHT
END:VTIMEZONE
END:VCALENDAR