BEGIN:VCALENDAR
VERSION:2.0
PRODID:-//wp-events-plugin.com//7.2.2.1//EN
TZID:Europe/Rome
X-WR-TIMEZONE:Europe/Rome
BEGIN:VEVENT
UID:38@trekkingcalendar.com
DTSTART;TZID=Europe/Rome:20230730T093000
DTEND;TZID=Europe/Rome:20230730T133000
DTSTAMP:20230704T104840Z
URL:https://trekkingcalendar.com/eventi/porto-selvaggio-in-canoa-le-grotte
 -e-le-sorgenti/
SUMMARY:Porto Selvaggio in canoa\, le grotte e le sorgenti
DESCRIPTION:Con quest’escursione in kayak e canoa vi guideremo alla scope
 rta dell’area marina di Porto Selvaggio. Il Parco è uno scrigno del Sal
 ento\, le alte falesie\, le grotte\, le baie con le fresche sorgenti sono 
 solo il contorno di questo luogo.
CATEGORIES:Kayak e Canoa
LOCATION:Puglia\, -\, -\, Puglia\, Italia
X-APPLE-STRUCTURED-LOCATION;VALUE=URI;X-ADDRESS=-\, -\, Puglia\, Italia;X-A
 PPLE-RADIUS=100;X-TITLE=Puglia:geo:0,0
END:VEVENT
BEGIN:VTIMEZONE
TZID:Europe/Rome
X-LIC-LOCATION:Europe/Rome
BEGIN:DAYLIGHT
DTSTART:20230326T030000
TZOFFSETFROM:+0100
TZOFFSETTO:+0200
TZNAME:CEST
END:DAYLIGHT
END:VTIMEZONE
END:VCALENDAR