BEGIN:VCALENDAR
VERSION:2.0
PRODID:-//wp-events-plugin.com//7.2.2.1//EN
TZID:Europe/Rome
X-WR-TIMEZONE:Europe/Rome
BEGIN:VEVENT
UID:84@trekkingcalendar.com
DTSTART;TZID=Europe/Rome:20231101T094500
DTEND;TZID=Europe/Rome:20231101T150000
DTSTAMP:20231023T075709Z
URL:https://trekkingcalendar.com/eventi/porto-badisco-e-il-sentiero-per-pu
 nta-palacia/
SUMMARY:PORTO BADISCO E IL SENTIERO PER PUNTA PALACÌA
DESCRIPTION:Con quest’escursione vi guideremo alla scoperta del sentiero 
 costiero Porto Badisco- Punta Palascìa. Porto Badisco è un antico portic
 ciolo a Sud di Otranto\, noto anche come “Approdo di Enea”.
CATEGORIES:Escursione
LOCATION:Puglia\, -\, -\, Puglia\, Italia
X-APPLE-STRUCTURED-LOCATION;VALUE=URI;X-ADDRESS=-\, -\, Puglia\, Italia;X-A
 PPLE-RADIUS=100;X-TITLE=Puglia:geo:0,0
END:VEVENT
BEGIN:VTIMEZONE
TZID:Europe/Rome
X-LIC-LOCATION:Europe/Rome
BEGIN:STANDARD
DTSTART:20231029T020000
TZOFFSETFROM:+0200
TZOFFSETTO:+0100
TZNAME:CET
END:STANDARD
END:VTIMEZONE
END:VCALENDAR