BEGIN:VCALENDAR
VERSION:2.0
PRODID:-//wp-events-plugin.com//7.2.2.1//EN
TZID:Europe/Rome
X-WR-TIMEZONE:Europe/Rome
BEGIN:VEVENT
UID:23@trekkingcalendar.com
DTSTART;TZID=Europe/Rome:20230625T180000
DTEND;TZID=Europe/Rome:20230625T200000
DTSTAMP:20230614T122822Z
URL:https://trekkingcalendar.com/eventi/percezioni-in-sup/
SUMMARY:Percezioni...in SUP
DESCRIPTION:Domenica 25 giugno alle ore 18:30\, nella splendida cornice di 
 Polignano a Mare\, daremo vita ad una nuova e affascinante esperienza: "Pe
 rcezioni...in SUP".
CATEGORIES:Kayak e Canoa
LOCATION:Puglia\, -\, -\, Puglia\, Italia
X-APPLE-STRUCTURED-LOCATION;VALUE=URI;X-ADDRESS=-\, -\, Puglia\, Italia;X-A
 PPLE-RADIUS=100;X-TITLE=Puglia:geo:0,0
END:VEVENT
BEGIN:VTIMEZONE
TZID:Europe/Rome
X-LIC-LOCATION:Europe/Rome
BEGIN:DAYLIGHT
DTSTART:20230326T030000
TZOFFSETFROM:+0100
TZOFFSETTO:+0200
TZNAME:CEST
END:DAYLIGHT
END:VTIMEZONE
END:VCALENDAR