BEGIN:VCALENDAR
VERSION:2.0
PRODID:-//wp-events-plugin.com//7.2.2.1//EN
TZID:Europe/Rome
X-WR-TIMEZONE:Europe/Rome
BEGIN:VEVENT
UID:70@trekkingcalendar.com
DTSTART;TZID=Europe/Rome:20230714T183000
DTEND;TZID=Europe/Rome:20230715T223000
DTSTAMP:20230713T080512Z
URL:https://trekkingcalendar.com/eventi/notturna-e-alba-sul-monte-cervati-
 parco-nazionale-del-cilento-vallo-di-diano-e-alburni/
SUMMARY:Notturna e Alba sul Monte Cervati - Parco Nazionale del Cilento\, V
 allo di Diano e Alburni
DESCRIPTION:NOTTURNA e ALBA sul Monte CERVATI - 1899 m\, all'interno del Pa
 rco Nazionale del Cilento\, Vallo di Diano e Alburni (SA).
CATEGORIES:Escursione
LOCATION:Puglia\, -\, -\, Puglia\, Italia
X-APPLE-STRUCTURED-LOCATION;VALUE=URI;X-ADDRESS=-\, -\, Puglia\, Italia;X-A
 PPLE-RADIUS=100;X-TITLE=Puglia:geo:0,0
END:VEVENT
BEGIN:VTIMEZONE
TZID:Europe/Rome
X-LIC-LOCATION:Europe/Rome
BEGIN:DAYLIGHT
DTSTART:20230326T030000
TZOFFSETFROM:+0100
TZOFFSETTO:+0200
TZNAME:CEST
END:DAYLIGHT
END:VTIMEZONE
END:VCALENDAR