BEGIN:VCALENDAR
VERSION:2.0
PRODID:-//wp-events-plugin.com//7.2.2.1//EN
TZID:Europe/Rome
X-WR-TIMEZONE:Europe/Rome
BEGIN:VEVENT
UID:72@trekkingcalendar.com
DTSTART;TZID=Europe/Rome:20230722T190000
DTEND;TZID=Europe/Rome:20230722T230000
DTSTAMP:20230718T115517Z
URL:https://trekkingcalendar.com/eventi/nei-freschi-boschi-della-murgia-in
 -notturna-con-la-nutrizionista/
SUMMARY:Nei freschi boschi della Murgia in notturna con la Nutrizionista
DESCRIPTION:Sabato 22 luglio l'associazione proporrà un nuovo incontro sul
 le fresche colline della Murgia con la partecipazione della dott.ssa Rober
 ta Paradiso\, Biologa Nutrizionista\, Posturologa e Istruttrice fitness\, 
 body building e ginnastica posturale.
CATEGORIES:Escursione
LOCATION:Puglia\, -\, -\, Puglia\, Italia
X-APPLE-STRUCTURED-LOCATION;VALUE=URI;X-ADDRESS=-\, -\, Puglia\, Italia;X-A
 PPLE-RADIUS=100;X-TITLE=Puglia:geo:0,0
END:VEVENT
BEGIN:VTIMEZONE
TZID:Europe/Rome
X-LIC-LOCATION:Europe/Rome
BEGIN:DAYLIGHT
DTSTART:20230326T030000
TZOFFSETFROM:+0100
TZOFFSETTO:+0200
TZNAME:CEST
END:DAYLIGHT
END:VTIMEZONE
END:VCALENDAR