BEGIN:VCALENDAR
VERSION:2.0
PRODID:-//wp-events-plugin.com//7.2.2.1//EN
TZID:Europe/Rome
X-WR-TIMEZONE:Europe/Rome
BEGIN:VEVENT
UID:63@trekkingcalendar.com
DTSTART;TZID=Europe/Rome:20230709T090000
DTEND;TZID=Europe/Rome:20230709T143000
DTSTAMP:20230706T132245Z
URL:https://trekkingcalendar.com/eventi/monte-la-gallinola-la-selvatika-ma
 tesina/
SUMMARY:Monte La Gallinola - la selvatika matesina
DESCRIPTION:La reginetta del Matese\, La Gallinola (1923m) è la seconda ve
 tta del Matese. A cavallo del confine tra Campania e Molise rappresenta un
 o degli scenari più #selvatiki del Matese. Un percorso che parte da piana
  della Corte arriva a 1923 metri s.l.m. Sulla vetta della Gallinola.
CATEGORIES:Escursione
LOCATION:Campania\, -\, -\, Campania\, Italia
X-APPLE-STRUCTURED-LOCATION;VALUE=URI;X-ADDRESS=-\, -\, Campania\, Italia;X
 -APPLE-RADIUS=100;X-TITLE=Campania:geo:0,0
END:VEVENT
BEGIN:VTIMEZONE
TZID:Europe/Rome
X-LIC-LOCATION:Europe/Rome
BEGIN:DAYLIGHT
DTSTART:20230326T030000
TZOFFSETFROM:+0100
TZOFFSETTO:+0200
TZNAME:CEST
END:DAYLIGHT
END:VTIMEZONE
END:VCALENDAR