BEGIN:VCALENDAR
VERSION:2.0
PRODID:-//wp-events-plugin.com//7.2.2.1//EN
TZID:Europe/Rome
X-WR-TIMEZONE:Europe/Rome
BEGIN:VEVENT
UID:65@trekkingcalendar.com
DTSTART;TZID=Europe/Rome:20230708T190000
DTEND;TZID=Europe/Rome:20230708T235500
DTSTAMP:20230707T113737Z
URL:https://trekkingcalendar.com/eventi/le-vie-del-sale-e-linsenatura-dell
 a-guardiola/
SUMMARY:LE VIE DEL SALE E L’INSENATURA DELLA GUARDIOLA
DESCRIPTION:Con quest’escursione vi guideremo alla scoperta della antiche
  vie del sale e l’insenatura della Guardiola. Un trekking che attraversa
  la storia\, la cultura e il paesaggio di Corsano
CATEGORIES:Escursione
LOCATION:Puglia\, -\, -\, Puglia\, Italia
X-APPLE-STRUCTURED-LOCATION;VALUE=URI;X-ADDRESS=-\, -\, Puglia\, Italia;X-A
 PPLE-RADIUS=100;X-TITLE=Puglia:geo:0,0
END:VEVENT
BEGIN:VTIMEZONE
TZID:Europe/Rome
X-LIC-LOCATION:Europe/Rome
BEGIN:DAYLIGHT
DTSTART:20230326T030000
TZOFFSETFROM:+0100
TZOFFSETTO:+0200
TZNAME:CEST
END:DAYLIGHT
END:VTIMEZONE
END:VCALENDAR