BEGIN:VCALENDAR
VERSION:2.0
PRODID:-//wp-events-plugin.com//7.2.2.1//EN
TZID:Europe/Rome
X-WR-TIMEZONE:Europe/Rome
BEGIN:VEVENT
UID:109@trekkingcalendar.com
DTSTART;TZID=Europe/Rome:20240211T094500
DTEND;TZID=Europe/Rome:20240211T150000
DTSTAMP:20240206T104105Z
URL:https://trekkingcalendar.com/eventi/le-antiche-vie-del-sale-e-linsenat
 ura-della-guardiola/
SUMMARY:LE ANTICHE VIE DEL SALE E L’INSENATURA DELLA GUARDIOLA
DESCRIPTION:Con quest’escursione vi guideremo alla scoperta della antiche
  vie del sale e l’insenatura della Guardiola. Un trekking che attraversa
  la storia\, la cultura e il paesaggio di Corsano\, un piccolo centro abit
 ato del sud-est salentino.
CATEGORIES:Escursione
LOCATION:Puglia\, -\, -\, Puglia\, Italia
X-APPLE-STRUCTURED-LOCATION;VALUE=URI;X-ADDRESS=-\, -\, Puglia\, Italia;X-A
 PPLE-RADIUS=100;X-TITLE=Puglia:geo:0,0
END:VEVENT
BEGIN:VTIMEZONE
TZID:Europe/Rome
X-LIC-LOCATION:Europe/Rome
BEGIN:STANDARD
DTSTART:20231029T020000
TZOFFSETFROM:+0200
TZOFFSETTO:+0100
TZNAME:CET
END:STANDARD
END:VTIMEZONE
END:VCALENDAR