BEGIN:VCALENDAR
VERSION:2.0
PRODID:-//wp-events-plugin.com//7.2.2.1//EN
TZID:Europe/Rome
X-WR-TIMEZONE:Europe/Rome
BEGIN:VEVENT
UID:25@trekkingcalendar.com
DTSTART;TZID=Europe/Rome:20230623T070000
DTEND;TZID=Europe/Rome:20230625T190000
DTSTAMP:20230615T084734Z
URL:https://trekkingcalendar.com/eventi/il-cammino-di-san-francesco-di-pao
 la/
SUMMARY:Il Cammino di San Francesco di Paola
DESCRIPTION:Le prossime date del Cammino di San Francesco lungo la "via del
 l'Eremita"\, da Paterno Calabro a Paola. Con una notte nelle case sugli al
 beri di Marano.
CATEGORIES:Cammino
LOCATION:Calabria\, -\, -\, Calabria\, Italia
X-APPLE-STRUCTURED-LOCATION;VALUE=URI;X-ADDRESS=-\, -\, Calabria\, Italia;X
 -APPLE-RADIUS=100;X-TITLE=Calabria:geo:0,0
END:VEVENT
BEGIN:VTIMEZONE
TZID:Europe/Rome
X-LIC-LOCATION:Europe/Rome
BEGIN:DAYLIGHT
DTSTART:20230326T030000
TZOFFSETFROM:+0100
TZOFFSETTO:+0200
TZNAME:CEST
END:DAYLIGHT
END:VTIMEZONE
END:VCALENDAR