BEGIN:VCALENDAR
VERSION:2.0
PRODID:-//wp-events-plugin.com//7.2.2.1//EN
TZID:Europe/Rome
X-WR-TIMEZONE:Europe/Rome
BEGIN:VEVENT
UID:77@trekkingcalendar.com
DTSTART;TZID=Europe/Rome:20230730T191500
DTEND;TZID=Europe/Rome:20230730T220000
DTSTAMP:20230724T120044Z
URL:https://trekkingcalendar.com/eventi/i-misteri-e-i-miti-di-torre-di-cas
 tiglione-2/
SUMMARY:I Misteri e i Miti di Torre di Castiglione
DESCRIPTION:Castiglione è un bosco\, Castiglione è un’area archeologica
 \, dove c’è ancora molto da scoprire.
CATEGORIES:Escursione
LOCATION:Puglia\, -\, -\, Puglia\, Italia
X-APPLE-STRUCTURED-LOCATION;VALUE=URI;X-ADDRESS=-\, -\, Puglia\, Italia;X-A
 PPLE-RADIUS=100;X-TITLE=Puglia:geo:0,0
END:VEVENT
BEGIN:VTIMEZONE
TZID:Europe/Rome
X-LIC-LOCATION:Europe/Rome
BEGIN:DAYLIGHT
DTSTART:20230326T030000
TZOFFSETFROM:+0100
TZOFFSETTO:+0200
TZNAME:CEST
END:DAYLIGHT
END:VTIMEZONE
END:VCALENDAR