BEGIN:VCALENDAR
VERSION:2.0
PRODID:-//wp-events-plugin.com//7.2.2.1//EN
TZID:Europe/Rome
X-WR-TIMEZONE:Europe/Rome
BEGIN:VEVENT
UID:31@trekkingcalendar.com
DTSTART;TZID=Europe/Rome:20230624T183000
DTEND;TZID=Europe/Rome:20230624T183000
DTSTAMP:20230620T101538Z
URL:https://trekkingcalendar.com/eventi/ginosa-tra-archeologia-e-natura/
SUMMARY:Ginosa tra archeologia e natura
DESCRIPTION:Ginosa si rivela come una "piccola Matera" che cattura l'attenz
 ione di chiunque la visiti. Questo luogo magico sembra essere sospeso nel 
 tempo\, con le sue abitazioni scolpite nella roccia\, una testimonianza af
 fascinante del passato.
CATEGORIES:Escursione
LOCATION:Puglia\, -\, -\, Puglia\, Italia
X-APPLE-STRUCTURED-LOCATION;VALUE=URI;X-ADDRESS=-\, -\, Puglia\, Italia;X-A
 PPLE-RADIUS=100;X-TITLE=Puglia:geo:0,0
END:VEVENT
BEGIN:VTIMEZONE
TZID:Europe/Rome
X-LIC-LOCATION:Europe/Rome
BEGIN:DAYLIGHT
DTSTART:20230326T030000
TZOFFSETFROM:+0100
TZOFFSETTO:+0200
TZNAME:CEST
END:DAYLIGHT
END:VTIMEZONE
END:VCALENDAR