BEGIN:VCALENDAR
VERSION:2.0
PRODID:-//wp-events-plugin.com//7.2.2.1//EN
TZID:Europe/Rome
X-WR-TIMEZONE:Europe/Rome
BEGIN:VEVENT
UID:67@trekkingcalendar.com
DTSTART;TZID=Europe/Rome:20230801T190000
DTEND;TZID=Europe/Rome:20230801T235500
DTSTAMP:20230707T114936Z
URL:https://trekkingcalendar.com/eventi/full-moon-trek-porto-badisco-e-il-
 sentiero-di-santemiliano/
SUMMARY:FULL MOON TREK: PORTO BADISCO E IL SENTIERO DI SANT’EMILIANO
DESCRIPTION:Con quest’escursione vi guideremo alla scoperta del sentiero 
 costiero Porto Badisco- Punta Palascìa.
CATEGORIES:Escursione
LOCATION:Puglia\, -\, -\, Puglia\, Italia
X-APPLE-STRUCTURED-LOCATION;VALUE=URI;X-ADDRESS=-\, -\, Puglia\, Italia;X-A
 PPLE-RADIUS=100;X-TITLE=Puglia:geo:0,0
END:VEVENT
BEGIN:VTIMEZONE
TZID:Europe/Rome
X-LIC-LOCATION:Europe/Rome
BEGIN:DAYLIGHT
DTSTART:20230326T030000
TZOFFSETFROM:+0100
TZOFFSETTO:+0200
TZNAME:CEST
END:DAYLIGHT
END:VTIMEZONE
END:VCALENDAR