BEGIN:VCALENDAR
VERSION:2.0
PRODID:-//wp-events-plugin.com//7.2.2.1//EN
TZID:Europe/Rome
X-WR-TIMEZONE:Europe/Rome
BEGIN:VEVENT
UID:44@trekkingcalendar.com
DTSTART;TZID=Europe/Rome:20230703T190000
DTEND;TZID=Europe/Rome:20230703T230000
DTSTAMP:20230703T102758Z
URL:https://trekkingcalendar.com/eventi/full-moon-trek-otranto-e-baia-dell
 e-orte/
SUMMARY:Full moon trek: Otranto e baia delle Orte
DESCRIPTION:Con quest’escursione vi guideremo alla scoperta di Otranto e 
 Baia delle Orte. Partiremo da Otranto accompagnati da tramonto\, proseguir
 emo lungo la costa della splendida Baia delle Orte e giungeremo infine\, s
 ulla via del ritorno\, al laghetto di Bauxite.\nPer svolgere l’attività
  in piena sicurezza è indispensabile avere una torcia frontale (torcia da
  indossare sul capo).\nPer chi ne fosse sprovvisto è possibile noleggiarl
 a al costo di 2\,00 €.\n\nPUNTI DI INTERESSE DELL’ESCURSIONE\nTorre de
 l Serpe\nGrotta Palombara\nCasematte\nMasseria Orte\nSpiaggia delle Orte\n
 cava di Bauxite\n\nDATI TECNICI DEL PERCORSO\nDurata: 4/5 ore\nLunghezza: 
 11 km\nDislivello: 60 m\nDifficoltà: 30% Turist. 70% Escurs.\nTipo percor
 so: Ad anello\nPunto d’incontro: Otranto\n\nDIFFICOLTÀ DEI PERCORSI\nIl
  trekking è un percorso a piedi che affronta vari dislivelli e differenti
  tipologie di terreno (sterrato\, roccia\, fango\, vegetazione etc). Ciasc
 una tipologia di percorso presenta un il livello di difficoltà che tiene 
 conto della pericolosità\, della fatica e il grado di preparazione richie
 sta.\nT = Turistico Itinerari che si sviluppano su stradine\, mulattiere o
  comodi sentieri prevalentemente in pianura o con lieve pendenza.\nE = Esc
 ursionistico Percorsi che si svolgono quasi sempre su sentieri\, oppure su
  tracce di passaggio in terreno vario (pascoli\, detriti\, pietraie). Si p
 ossono presentare piccoli passaggi su roccia non faticosi ne impegnativi. 
 Richiedono allenamento alla camminata e calzature adeguate.\nEE = Escursio
 nisti Esperti Richiedono una buona capacità di muoversi sui vari terreni 
 (pascoli\, detriti\, pietraie\, terreni impervi e tratti rocciosi con liev
 i difficoltà tecniche). Richiedono fermezza di piede\, una buona preparaz
 ione fisica\, assenza di vertigini\, calzature adeguate\n\nCONSIGLIAMO DI 
 PORTARE\nScarpe da trekking o simili\npantalone lungo\nrepellente per inse
 tti\nacqua e pranzo al sacco\ngiacca impermeabile\nil tutto all’interno 
 di zaino a spalla con 2 spallacci\nBusta per i propri rifiuti.\n\nQUOTA DI
  PARTECIPAZIONE\n15 € quota adulto\n8 € quota bambino (8-13 anni)\nIn 
 fase di prenotazione sarà indispensabile specificare la presenza di bambi
 ni. I minori devono essere accompagnati da un adulto.\nQuesto sentiero è 
 adatto ai bambini purché abbiano un minimo di esperienza con trekking e c
 ammini di lunghezza simile.\nGli amici a quattro zampe sono benvenuti con 
 guinzaglio.\n— PRENOTAZIONE OBBLIGATORIA —\n— POSTI LIMITATI —\n\n
 COME PRENOTARE\nSegui il link a seguito\nwww.18meridianoescursioni.it/even
 ti/ e clicca sull'evento che ti interessa\, in fondo alla descrizione dell
 'evento troverai un tasto w.app con un messaggio preimpostato per la preno
 tazione.\nSe non hai w.app segui le indicazioni nel sito\nRicevuta la rich
 iesta di prenotazione\, se i posti sono disponibili\, vi daremo conferma e
  vi inseriremo nella lista dei partecipanti. (consigliamo di prenotare con
  anticipo)\nIl giorno prima dell’escursione creeremo un gruppo w. App do
 ve condivideremo un promemoria con le info del percorso\, la posizione goo
 gle del punto d’incontro\, dove potrete mettervi in contatto con le guid
 e ed eventualmente accordarvi con gli altri partecipanti per raggiungere i
 l punto d’incontro insieme.
CATEGORIES:Escursione
LOCATION:Puglia\, -\, -\, Puglia\, Italia
X-APPLE-STRUCTURED-LOCATION;VALUE=URI;X-ADDRESS=-\, -\, Puglia\, Italia;X-A
 PPLE-RADIUS=100;X-TITLE=Puglia:geo:0,0
END:VEVENT
BEGIN:VTIMEZONE
TZID:Europe/Rome
X-LIC-LOCATION:Europe/Rome
BEGIN:DAYLIGHT
DTSTART:20230326T030000
TZOFFSETFROM:+0100
TZOFFSETTO:+0200
TZNAME:CEST
END:DAYLIGHT
END:VTIMEZONE
END:VCALENDAR