BEGIN:VCALENDAR
VERSION:2.0
PRODID:-//wp-events-plugin.com//7.2.2.1//EN
TZID:Europe/Rome
X-WR-TIMEZONE:Europe/Rome
BEGIN:VEVENT
UID:61@trekkingcalendar.com
DTSTART;TZID=Europe/Rome:20230817T180000
DTEND;TZID=Europe/Rome:20230817T200000
DTSTAMP:20230706T125545Z
URL:https://trekkingcalendar.com/eventi/escursione-in-e-bike-al-sito-arche
 ologico-di-monte-saraceno-al-tramonto-5/
SUMMARY:Escursione in e-bike al sito archeologico di Monte Saraceno al tram
 onto
DESCRIPTION:Partiremo dal centro di Mattinata per salire in e-bike su Monte
  Saraceno\, dove un sentiero panoramico sul mare ci condurrà fino a uno d
 ei siti archeologici più suggestivi del Gargano.
CATEGORIES:Ciclo escursionismo MTB
LOCATION:Puglia\, -\, -\, Puglia\, Italia
X-APPLE-STRUCTURED-LOCATION;VALUE=URI;X-ADDRESS=-\, -\, Puglia\, Italia;X-A
 PPLE-RADIUS=100;X-TITLE=Puglia:geo:0,0
END:VEVENT
BEGIN:VTIMEZONE
TZID:Europe/Rome
X-LIC-LOCATION:Europe/Rome
BEGIN:DAYLIGHT
DTSTART:20230326T030000
TZOFFSETFROM:+0100
TZOFFSETTO:+0200
TZNAME:CEST
END:DAYLIGHT
END:VTIMEZONE
END:VCALENDAR