BEGIN:VCALENDAR
VERSION:2.0
PRODID:-//wp-events-plugin.com//7.2.2.1//EN
TZID:Europe/Rome
X-WR-TIMEZONE:Europe/Rome
BEGIN:VEVENT
UID:22@trekkingcalendar.com
DTSTART;TZID=Europe/Rome:20230617T183000
DTEND;TZID=Europe/Rome:20230617T213000
DTSTAMP:20230614T122434Z
URL:https://trekkingcalendar.com/eventi/crepuscolo-salentino-nella-marina-
 di-andrano/
SUMMARY:Crepuscolo salentino nella marina di Andrano
DESCRIPTION:Sabato 17/06/2023 le associazioni A.S.D. Oreca Trekking ed A.S.
 D. I Love Salento Trekking\, organizzano l’escursione "Crepuscolo salent
 ino nella marina di Andrano”.\nUn suggestivo percorso dove i soli rumori
  saranno quelli dei nostri passi sui sentieri che si affacciano sulla mari
 na di Andrano.
CATEGORIES:Escursione
LOCATION:Puglia\, -\, -\, Puglia\, Italia
X-APPLE-STRUCTURED-LOCATION;VALUE=URI;X-ADDRESS=-\, -\, Puglia\, Italia;X-A
 PPLE-RADIUS=100;X-TITLE=Puglia:geo:0,0
END:VEVENT
BEGIN:VTIMEZONE
TZID:Europe/Rome
X-LIC-LOCATION:Europe/Rome
BEGIN:DAYLIGHT
DTSTART:20230326T030000
TZOFFSETFROM:+0100
TZOFFSETTO:+0200
TZNAME:CEST
END:DAYLIGHT
END:VTIMEZONE
END:VCALENDAR