BEGIN:VCALENDAR
VERSION:2.0
PRODID:-//wp-events-plugin.com//7.2.2.1//EN
TZID:Europe/Rome
X-WR-TIMEZONE:Europe/Rome
BEGIN:VEVENT
UID:30@trekkingcalendar.com
DTSTART;TZID=Europe/Rome:20230624T160000
DTEND;TZID=Europe/Rome:20230624T160000
DTSTAMP:20230620T100955Z
URL:https://trekkingcalendar.com/eventi/bari-e-i-suoi-teatri-con-apertura-
 speciale-del-teatro-petruzzelli/
SUMMARY:Bari e i suoi Teatri con apertura speciale del Teatro Petruzzelli
DESCRIPTION:Vi parleremo dei teatri baresi e della loro meravigliosa storia
 .
CATEGORIES:Escursione
LOCATION:Puglia\, -\, -\, Puglia\, Italia
X-APPLE-STRUCTURED-LOCATION;VALUE=URI;X-ADDRESS=-\, -\, Puglia\, Italia;X-A
 PPLE-RADIUS=100;X-TITLE=Puglia:geo:0,0
END:VEVENT
BEGIN:VTIMEZONE
TZID:Europe/Rome
X-LIC-LOCATION:Europe/Rome
BEGIN:DAYLIGHT
DTSTART:20230326T030000
TZOFFSETFROM:+0100
TZOFFSETTO:+0200
TZNAME:CEST
END:DAYLIGHT
END:VTIMEZONE
END:VCALENDAR